BEGIN:VCALENDAR
VERSION:2.0
PRODID:-//The Carl McCain Memorial Foundation - ECPv6.15.20//NONSGML v1.0//EN
CALSCALE:GREGORIAN
METHOD:PUBLISH
X-ORIGINAL-URL:https://carlmccain.org
X-WR-CALDESC:Events for The Carl McCain Memorial Foundation
REFRESH-INTERVAL;VALUE=DURATION:PT1H
X-Robots-Tag:noindex
X-PUBLISHED-TTL:PT1H
BEGIN:VTIMEZONE
TZID:America/Chicago
BEGIN:DAYLIGHT
TZOFFSETFROM:-0600
TZOFFSETTO:-0500
TZNAME:CDT
DTSTART:20250309T080000
END:DAYLIGHT
BEGIN:STANDARD
TZOFFSETFROM:-0500
TZOFFSETTO:-0600
TZNAME:CST
DTSTART:20251102T070000
END:STANDARD
BEGIN:DAYLIGHT
TZOFFSETFROM:-0600
TZOFFSETTO:-0500
TZNAME:CDT
DTSTART:20260308T080000
END:DAYLIGHT
BEGIN:STANDARD
TZOFFSETFROM:-0500
TZOFFSETTO:-0600
TZNAME:CST
DTSTART:20261101T070000
END:STANDARD
BEGIN:DAYLIGHT
TZOFFSETFROM:-0600
TZOFFSETTO:-0500
TZNAME:CDT
DTSTART:20270314T080000
END:DAYLIGHT
BEGIN:STANDARD
TZOFFSETFROM:-0500
TZOFFSETTO:-0600
TZNAME:CST
DTSTART:20271107T070000
END:STANDARD
END:VTIMEZONE
BEGIN:VEVENT
DTSTART;TZID=America/Chicago:20260423T170000
DTEND;TZID=America/Chicago:20260423T210000
DTSTAMP:20260421T200540
CREATED:20260218T163059Z
LAST-MODIFIED:20260413T192457Z
UID:10000011-1776963600-1776978000@carlmccain.org
SUMMARY:Carl McCain Crawfish Boil
DESCRIPTION:Please join us Thursday\, April 23 at Karbach Brewing Company from 5:00 – 9:00 pm.   \n\n\n\nCapacity is limited and registration will close after 1\,100 guests sign up\, so don’t delay! \n\n\n\nPre-registration attendance only; registration closes Wednesday\, April 22 \n\n\n\n$150 per person donation to The Carl McCain Memorial Foundation.  Entry donation includes all the crawfish\, shrimp\, beer\, wine\, and fixins you can eat \n\n\n\nSponsors are needed to ensure the success of this fundraiser\, please click the Sponsorship tab to see the available opportunities \n\n\n\n\n\nFor questions\, please contact:
URL:https://carlmccain.org/event/carl-mccain-crawfish-boil/
LOCATION:Karbach Brewery\, 2032 Karbach St\, Houston\, Texas\, 77092
ATTACH;FMTTYPE=image/png:https://carlmccain.org/wp-content/uploads/2026/02/carl-mccain-crawfish-boil-scaled.png
ORGANIZER;CN="Christina Seaba":MAILTO:christina.seaba@shell.com
END:VEVENT
END:VCALENDAR